BEGIN:VCALENDAR
VERSION:2.0
PRODID:-//Emerald Invitations - ECPv6.15.20//NONSGML v1.0//EN
CALSCALE:GREGORIAN
METHOD:PUBLISH
X-ORIGINAL-URL:https://emeraldinvitations.com
X-WR-CALDESC:Events for Emerald Invitations
REFRESH-INTERVAL;VALUE=DURATION:PT1H
X-Robots-Tag:noindex
X-PUBLISHED-TTL:PT1H
BEGIN:VTIMEZONE
TZID:America/New_York
BEGIN:DAYLIGHT
TZOFFSETFROM:-0500
TZOFFSETTO:-0400
TZNAME:EDT
DTSTART:20240310T070000
END:DAYLIGHT
BEGIN:STANDARD
TZOFFSETFROM:-0400
TZOFFSETTO:-0500
TZNAME:EST
DTSTART:20241103T060000
END:STANDARD
BEGIN:DAYLIGHT
TZOFFSETFROM:-0500
TZOFFSETTO:-0400
TZNAME:EDT
DTSTART:20250309T070000
END:DAYLIGHT
BEGIN:STANDARD
TZOFFSETFROM:-0400
TZOFFSETTO:-0500
TZNAME:EST
DTSTART:20251102T060000
END:STANDARD
BEGIN:DAYLIGHT
TZOFFSETFROM:-0500
TZOFFSETTO:-0400
TZNAME:EDT
DTSTART:20260308T070000
END:DAYLIGHT
BEGIN:STANDARD
TZOFFSETFROM:-0400
TZOFFSETTO:-0500
TZNAME:EST
DTSTART:20261101T060000
END:STANDARD
BEGIN:DAYLIGHT
TZOFFSETFROM:-0500
TZOFFSETTO:-0400
TZNAME:EDT
DTSTART:20270314T070000
END:DAYLIGHT
BEGIN:STANDARD
TZOFFSETFROM:-0400
TZOFFSETTO:-0500
TZNAME:EST
DTSTART:20271107T060000
END:STANDARD
END:VTIMEZONE
BEGIN:VEVENT
DTSTART;VALUE=DATE:20250309
DTEND;VALUE=DATE:20250310
DTSTAMP:20260421T054453
CREATED:20241113T183654Z
LAST-MODIFIED:20241113T184714Z
UID:1391-1741478400-1741564799@emeraldinvitations.com
SUMMARY:Happily Ever Expo - March 2024
DESCRIPTION:Why attend Happily Ever Expo?\n\nHappily Ever Expo was created by a bride (and her groom) for all the current New England brides and grooms. If you are in the thick of wedding planning\, listen up! We know exactly what engaged couples need and want out of attending a wedding expo and bridal show. You’ll meet vendors that are working on the same speed as you\, whether you are planning a small intimate backyard wedding or an extravagant affair! Some of these vendors offer services that may not have even crossed your minds! Don’t miss out on this opportunity to save time and connect with vendors face to face. With all that wedding planning you have to do\, you don’t have time to run around to multiple businesses. Meeting one-one-one outside of a wedding expo can be so time consuming! Why not check it off the list all in one spot? Above all\, you’ll have fun while you’re doing it! \nHappily Ever Expo is modern and fresh. At Happily Ever Expo\, we promise to offer the most up to date vendors\, hand-selected by our owner\, which means you’ll put on a wedding to remember! \nCan’t wait to see you at your local Happily Ever Expo!
URL:https://emeraldinvitations.com/event/happily-ever-expo-march-2024/
LOCATION:Boston Marriot Quincy\, 1000 Marriott Drive\, Quincy\, MA\, 02169\, United States
END:VEVENT
BEGIN:VEVENT
DTSTART;VALUE=DATE:20250323
DTEND;VALUE=DATE:20250324
DTSTAMP:20260421T054453
CREATED:20241113T183942Z
LAST-MODIFIED:20241113T183942Z
UID:1393-1742688000-1742774399@emeraldinvitations.com
SUMMARY:Great Bridal Expo - March 2025
DESCRIPTION:  \n\n\n\nMake your Wedding Dreams come true at Great Bridal Expo. Meet face to face with the best Wedding Professionals in the business. \n\n\n\n\n\nAbout this event\n\n\nMake your Wedding Dreams come true at Great Bridal Expo. Meet face to face with the best Wedding Professionals in the business. \nEverything for your wedding\, honeymoon\, and home is on display. Enjoy the stunning bridal fashions\, giveaways\, prizes\, and amazing DJs…Sample some of the best catering options around while you explore exciting and informative exhibits.
URL:https://emeraldinvitations.com/event/great-bridal-expo-march-2025/
LOCATION:Westin Boston Waterfront\, 425 Summer St\, Boston\, MA\, 02210\, United States
END:VEVENT
BEGIN:VEVENT
DTSTART;TZID=America/New_York:20250601T130000
DTEND;TZID=America/New_York:20250601T170000
DTSTAMP:20260421T054453
CREATED:20250508T160438Z
LAST-MODIFIED:20250508T160438Z
UID:1657-1748782800-1748797200@emeraldinvitations.com
SUMMARY:Mass Bridal and Wedding Expo - June 2025
DESCRIPTION:﻿ \nAt the #1 bridal & wedding services expo\, you’ll find everything you need to have the perfect wedding day!\nWhether you envision a formal black-tie affair or a casual barefoot ceremony on the beach\, our carefully selected experts are ready to offer advice in creating timeless memories for your perfect wedding.
URL:https://emeraldinvitations.com/event/mass-bridal-and-wedding-expo-june-2025/
LOCATION:Shriners Auditorium\, 99 Fordham Road\, Wlimington\, MA\, 01887\, United States
END:VEVENT
BEGIN:VEVENT
DTSTART;TZID=America/New_York:20260222T110000
DTEND;TZID=America/New_York:20260222T140000
DTSTAMP:20260421T054453
CREATED:20260127T161617Z
LAST-MODIFIED:20260127T161617Z
UID:1702-1771758000-1771768800@emeraldinvitations.com
SUMMARY:Wedding Expo - February 2026
DESCRIPTION:
URL:https://emeraldinvitations.com/event/wedding-expo-february-2026/
LOCATION:Loon Pond Lodge\, 28 Precinct Street\, Lakeville\, MA\, 02347\, United States
END:VEVENT
BEGIN:VEVENT
DTSTART;TZID=America/New_York:20260222T110000
DTEND;TZID=America/New_York:20260222T150000
DTSTAMP:20260421T054453
CREATED:20260127T160818Z
LAST-MODIFIED:20260129T213744Z
UID:1700-1771758000-1771772400@emeraldinvitations.com
SUMMARY:Grand Wedding Expo - Febuary 2026
DESCRIPTION:Planning Your Wedding Starts Here!\n\n\n​\nCongratulations on your engagement! As you start your wedding planning its important to arm yourself with information. You should definitely take your time celebrating your engagement\, but when you’re ready to officially start planning your wedding\, Grand Wedding Expo is a great way for you to get inspired and start learning about all the option available to you\, as you choose the services\, products\, and merchandise you will need to realize THE WEDDING OF YOUR DREAMS!
URL:https://emeraldinvitations.com/event/grand-wedding-expo-febuary-2026/
LOCATION:Twin River Casino\, 100 Twin River Road\, Lincoln\, RI\, 02865\, United States
END:VEVENT
BEGIN:VEVENT
DTSTART;TZID=America/New_York:20260503T120000
DTEND;TZID=America/New_York:20260503T150000
DTSTAMP:20260421T054453
CREATED:20260420T220810Z
LAST-MODIFIED:20260420T220810Z
UID:1756-1777809600-1777820400@emeraldinvitations.com
SUMMARY:Lenox Wedding Showcase - May 2026
DESCRIPTION:Join us on Sunday\, May 3rd\, from 12:00 p.m. to 3:00 p.m. for a fun-filled Wedding Showcase! Meet vendors\, explore our spaces\, and so much more.\nCouples will have the opportunity to chat with our wedding experts in a relaxed setting. Mingle with the industry’s top wedding photographers\, bakers\, florists\, DJs\, rental companies\, and so many more! Wedding planning can be stressful\, but at our Wedding Showcase\, it doesn’t have to be. Bring your partner\, friends\, and family members and come enjoy a fun afternoon while checking off your Wedding To-Do list!
URL:https://emeraldinvitations.com/event/lenox-wedding-showcase-may-2026/
LOCATION:Lenox Hotel\, 61 Exeter Street at Boylston\, Boston\, MA\, 02116\, United States
END:VEVENT
BEGIN:VEVENT
DTSTART;TZID=America/New_York:20260503T130000
DTEND;TZID=America/New_York:20260503T170000
DTSTAMP:20260421T054453
CREATED:20260420T221343Z
LAST-MODIFIED:20260420T221343Z
UID:1759-1777813200-1777827600@emeraldinvitations.com
SUMMARY:Rhode Island Bridal Expo - May 2026
DESCRIPTION:Turn your dream wedding into a reality.\n\nFind the perfect gown\, DJ\, photographer\, reception venue\, band\, honeymoon destination and so much more! \n\n\n\n\n\n\n\n\n\n\nWhy Attend the Bridal & Wedding Expo?\nAt the #1 bridal & wedding services expo\,\nyou’ll find everything you need to have the perfect wedding day! \n\n\n\n\n\nOne-Stop Shop \nIn one afternoon\, meet with all of the best wedding providers in the area! \n\n\n\n\n\nExpert Advice \nAn incredible selection of wedding professionals on hand to help you. \n\n\n\n\n\nExclusive Deals \nGet exclusive discounts and offers only available at the bridal show.
URL:https://emeraldinvitations.com/event/rhode-island-bridal-expo-may-2026/
LOCATION:Rhode Island Convention Center & Dunkin Donuts Center\, 1 Sabin Street\, Providence\, RI\, 02909\, United States
END:VEVENT
BEGIN:VEVENT
DTSTART;TZID=America/New_York:20260531T130000
DTEND;TZID=America/New_York:20260531T170000
DTSTAMP:20260421T054453
CREATED:20260420T221647Z
LAST-MODIFIED:20260420T221647Z
UID:1761-1780232400-1780246800@emeraldinvitations.com
SUMMARY:Mass Bridal & Wedding Expo - May 2026
DESCRIPTION:﻿ \nAt the #1 bridal & wedding services expo\, you’ll find everything you need to have the perfect wedding day!\nWhether you envision a formal black-tie affair or a casual barefoot ceremony on the beach\, our carefully selected experts are ready to offer advice in creating timeless memories for your perfect wedding.
URL:https://emeraldinvitations.com/event/mass-bridal-wedding-expo-may-2026/
LOCATION:Shriners Auditorium\, 99 Fordham Road\, Wlimington\, MA\, 01887\, United States
END:VEVENT
END:VCALENDAR