BEGIN:VCALENDAR
VERSION:2.0
PRODID:-//Emerald Invitations - ECPv6.15.20//NONSGML v1.0//EN
CALSCALE:GREGORIAN
METHOD:PUBLISH
X-WR-CALNAME:Emerald Invitations
X-ORIGINAL-URL:https://emeraldinvitations.com
X-WR-CALDESC:Events for Emerald Invitations
REFRESH-INTERVAL;VALUE=DURATION:PT1H
X-Robots-Tag:noindex
X-PUBLISHED-TTL:PT1H
BEGIN:VTIMEZONE
TZID:America/New_York
BEGIN:DAYLIGHT
TZOFFSETFROM:-0500
TZOFFSETTO:-0400
TZNAME:EDT
DTSTART:20160313T070000
END:DAYLIGHT
BEGIN:STANDARD
TZOFFSETFROM:-0400
TZOFFSETTO:-0500
TZNAME:EST
DTSTART:20161106T060000
END:STANDARD
BEGIN:DAYLIGHT
TZOFFSETFROM:-0500
TZOFFSETTO:-0400
TZNAME:EDT
DTSTART:20170312T070000
END:DAYLIGHT
BEGIN:STANDARD
TZOFFSETFROM:-0400
TZOFFSETTO:-0500
TZNAME:EST
DTSTART:20171105T060000
END:STANDARD
BEGIN:DAYLIGHT
TZOFFSETFROM:-0500
TZOFFSETTO:-0400
TZNAME:EDT
DTSTART:20180311T070000
END:DAYLIGHT
BEGIN:STANDARD
TZOFFSETFROM:-0400
TZOFFSETTO:-0500
TZNAME:EST
DTSTART:20181104T060000
END:STANDARD
END:VTIMEZONE
BEGIN:VEVENT
DTSTART;TZID=America/New_York:20171010T180000
DTEND;TZID=America/New_York:20171010T203000
DTSTAMP:20260419T134329
CREATED:20170901T153517Z
LAST-MODIFIED:20170901T153517Z
UID:296-1507658400-1507667400@emeraldinvitations.com
SUMMARY:Lombardo's Wedding Showcase
DESCRIPTION:Join us on Tuesday\, October 10th for our Wedding Showcase! Meet the best wedding vendors in the Boston area\, attend one of our Wedding 101 seminars\, and sample a taste from our menus! \nOne lucky attendee will win a FREE WEDDING at Lombardo’s!*
URL:https://emeraldinvitations.com/event/lombardos-wedding-showcase/
LOCATION:Lombardo’s\, 6 Billings Street\, Randolph\, MA\, 02368\, United States
END:VEVENT
BEGIN:VEVENT
DTSTART;TZID=America/New_York:20171001T080000
DTEND;TZID=America/New_York:20171001T170000
DTSTAMP:20260419T134329
CREATED:20170901T152900Z
LAST-MODIFIED:20170901T153536Z
UID:293-1506844800-1506877200@emeraldinvitations.com
SUMMARY:Boston Bridal Bash 2017
DESCRIPTION:Come spend the day meeting some of Greater Boston’s most distinguished wedding experts as you begin to plan your special day. The Boston Bridal Bash gives you the opportunity to get new ideas and plan with the best in the business to make your day spectacular. Spend the day browsing and planning while meeting face-to-face with our friendly and knowledgeable exhibitors! \nMock Wedding: Boston Event Guide is teaming up with our vendors & sponsors to create a special mock wedding reception within the event! Imagine previewing every element to your dream wedding right in front of your eyes.
URL:https://emeraldinvitations.com/event/boston-bridal-bash-2017/
LOCATION:Revere Hotel\, 200 Stuart Street\, Boston\, MA\, 02116\, United States
END:VEVENT
BEGIN:VEVENT
DTSTART;TZID=America/New_York:20170811T100000
DTEND;TZID=America/New_York:20170813T170000
DTSTAMP:20260419T134329
CREATED:20170530T222912Z
LAST-MODIFIED:20170530T222933Z
UID:284-1502445600-1502643600@emeraldinvitations.com
SUMMARY:Boston Comic Con
DESCRIPTION:Come join us and celebrate 10 years of fandom at Boston Comic Con! Over 50\,000 fans\, 200\,000 square feet and 500 exhibits that you simply can’t miss. Whether you have a mindblowing cosplay costume or just coming as yourself\, you can be immortalized with our Munchkin 3D printing technology that creates a 3D replica of  the moment!
URL:https://emeraldinvitations.com/event/boston-comic-con/
LOCATION:Seaport World Trade Center\, 200 Seaport Blvd\, Boston\, MA\, 02210\, United States
END:VEVENT
BEGIN:VEVENT
DTSTART;TZID=America/New_York:20170624T100000
DTEND;TZID=America/New_York:20170625T170000
DTSTAMP:20260419T134329
CREATED:20170530T220214Z
LAST-MODIFIED:20170530T220333Z
UID:279-1498298400-1498410000@emeraldinvitations.com
SUMMARY:MassiveCon
DESCRIPTION:Come join us at one of the biggest social events on the East Coast\, “MassiveCon”. Whether you have a mindblowing cosplay costume or just coming as yourself\, you can be immortalized with our Munchkin 3D printing technology that creates a 3D replica of  the moment!
URL:https://emeraldinvitations.com/event/massivecon/
LOCATION:DCU Center\, 50 Foster Street\, Worcester\, MA\,  01608\, United States
ORGANIZER;CN="Double Midnight Productions":MAILTO:info@dmcomics.com
END:VEVENT
END:VCALENDAR