BEGIN:VCALENDAR
VERSION:2.0
PRODID:-//Emerald Invitations - ECPv6.15.20//NONSGML v1.0//EN
CALSCALE:GREGORIAN
METHOD:PUBLISH
X-ORIGINAL-URL:https://emeraldinvitations.com
X-WR-CALDESC:Events for Emerald Invitations
REFRESH-INTERVAL;VALUE=DURATION:PT1H
X-Robots-Tag:noindex
X-PUBLISHED-TTL:PT1H
BEGIN:VTIMEZONE
TZID:America/New_York
BEGIN:DAYLIGHT
TZOFFSETFROM:-0500
TZOFFSETTO:-0400
TZNAME:EDT
DTSTART:20180311T070000
END:DAYLIGHT
BEGIN:STANDARD
TZOFFSETFROM:-0400
TZOFFSETTO:-0500
TZNAME:EST
DTSTART:20181104T060000
END:STANDARD
BEGIN:DAYLIGHT
TZOFFSETFROM:-0500
TZOFFSETTO:-0400
TZNAME:EDT
DTSTART:20190310T070000
END:DAYLIGHT
BEGIN:STANDARD
TZOFFSETFROM:-0400
TZOFFSETTO:-0500
TZNAME:EST
DTSTART:20191103T060000
END:STANDARD
BEGIN:DAYLIGHT
TZOFFSETFROM:-0500
TZOFFSETTO:-0400
TZNAME:EDT
DTSTART:20200308T070000
END:DAYLIGHT
BEGIN:STANDARD
TZOFFSETFROM:-0400
TZOFFSETTO:-0500
TZNAME:EST
DTSTART:20201101T060000
END:STANDARD
END:VTIMEZONE
BEGIN:VEVENT
DTSTART;VALUE=DATE:20190922
DTEND;VALUE=DATE:20190923
DTSTAMP:20260424T051805
CREATED:20190724T135916Z
LAST-MODIFIED:20190824T121330Z
UID:493-1569110400-1569196799@emeraldinvitations.com
SUMMARY:Great Bridal Expo 9/2019
DESCRIPTION:Great Bridal Expo is the nation’s leading direct to the consumer wedding show and resource with nearly 40 years of event production throughout the continental United States.Formed in 1978 by William F. Heaton\, III (an attorney and entrepreneur)\, Great Bridal Expo has become the premier national consumer SHOW in the US. \nIts nationally sponsored tour criss-crosses the US\, visiting major US cities & reaching tens of thousands about-to-be-marrieds\, their families and friends actively involved in the wedding planning process. \nThe event occurs in large\, upscale hotels and convention centers and follows a trade show format. Couples experience everything for the wedding\, honeymoon & home. Additional features include a New York Style Bridal fashion show\, orchestra and DJ presentations\, and aisle-after-aisle of exciting and informative exhibits. \nWhen it comes to reaching these couples\, face to face at a live event is where it’s at.
URL:https://emeraldinvitations.com/event/great-bridal-expo-9-2019/
LOCATION:Westin Boston Waterfront\, 425 Summer St\, Boston\, MA\, 02210\, United States
CATEGORIES:ma
END:VEVENT
BEGIN:VEVENT
DTSTART;TZID=America/New_York:20190922T120000
DTEND;TZID=America/New_York:20190922T160000
DTSTAMP:20260424T051805
CREATED:20190824T121534Z
LAST-MODIFIED:20190909T162117Z
UID:500-1569153600-1569168000@emeraldinvitations.com
SUMMARY:Boston Bridal Bash Nov 10th
DESCRIPTION:  \n \nCome spend the day meeting some of Greater Boston’s most distinguished wedding experts as you begin to plan your special day. The Boston Bridal Bash gives you the opportunity to get new ideas and plan with the best in the business to make your day spectacular. Spend the day browsing and planning while meeting face-to-face with our friendly and knowledgeable exhibitors! \nMock Wedding: Boston Event Guide is teaming up with our vendors & sponsors to create a special mock wedding reception within the event! Imagine previewing every element to your dream wedding right in front of your eyes.
URL:https://emeraldinvitations.com/event/boston-bridal-bash-9-19/
LOCATION:Revere Hotel\, 200 Stuart Street\, Boston\, MA\, 02116\, United States
CATEGORIES:ma
END:VEVENT
END:VCALENDAR