BEGIN:VCALENDAR
VERSION:2.0
PRODID:-//Emerald Invitations - ECPv6.15.20//NONSGML v1.0//EN
CALSCALE:GREGORIAN
METHOD:PUBLISH
X-ORIGINAL-URL:https://emeraldinvitations.com
X-WR-CALDESC:Events for Emerald Invitations
REFRESH-INTERVAL;VALUE=DURATION:PT1H
X-Robots-Tag:noindex
X-PUBLISHED-TTL:PT1H
BEGIN:VTIMEZONE
TZID:America/New_York
BEGIN:DAYLIGHT
TZOFFSETFROM:-0500
TZOFFSETTO:-0400
TZNAME:EDT
DTSTART:20170312T070000
END:DAYLIGHT
BEGIN:STANDARD
TZOFFSETFROM:-0400
TZOFFSETTO:-0500
TZNAME:EST
DTSTART:20171105T060000
END:STANDARD
BEGIN:DAYLIGHT
TZOFFSETFROM:-0500
TZOFFSETTO:-0400
TZNAME:EDT
DTSTART:20180311T070000
END:DAYLIGHT
BEGIN:STANDARD
TZOFFSETFROM:-0400
TZOFFSETTO:-0500
TZNAME:EST
DTSTART:20181104T060000
END:STANDARD
BEGIN:DAYLIGHT
TZOFFSETFROM:-0500
TZOFFSETTO:-0400
TZNAME:EDT
DTSTART:20190310T070000
END:DAYLIGHT
BEGIN:STANDARD
TZOFFSETFROM:-0400
TZOFFSETTO:-0500
TZNAME:EST
DTSTART:20191103T060000
END:STANDARD
END:VTIMEZONE
BEGIN:VEVENT
DTSTART;TZID=America/New_York:20180926T050000
DTEND;TZID=America/New_York:20180926T080000
DTSTAMP:20260424T234634
CREATED:20180727T234309Z
LAST-MODIFIED:20190824T122412Z
UID:416-1537938000-1537948800@emeraldinvitations.com
SUMMARY:Tiffany Ballroom Bridal Show
DESCRIPTION:Join us in the ALL NEW Tiffany Ballroom for hors d’oeuvres and cocktails as you view the many amenities of our offered space. Meet with our preferred vendors who are available to answer any questions and display examples of their work. You’ll find it easy to design a custom experience that you and your guests will cherish. \nKeep your big day stress free and join us for the Tiffany Bridal Showcase where all your wishes are laid out for you.
URL:https://emeraldinvitations.com/event/tiffany-ballroom-bridal-show/
LOCATION:Four Points by Sheraton Norwood\, 1125 Boston-Providence Turnpike (Rte. 1)\, Norwood\, MA\, 02062\, United States
CATEGORIES:ma
END:VEVENT
END:VCALENDAR