BEGIN:VCALENDAR
VERSION:2.0
PRODID:-//Emerald Invitations - ECPv6.15.20//NONSGML v1.0//EN
CALSCALE:GREGORIAN
METHOD:PUBLISH
X-WR-CALNAME:Emerald Invitations
X-ORIGINAL-URL:https://emeraldinvitations.com
X-WR-CALDESC:Events for Emerald Invitations
REFRESH-INTERVAL;VALUE=DURATION:PT1H
X-Robots-Tag:noindex
X-PUBLISHED-TTL:PT1H
BEGIN:VTIMEZONE
TZID:America/New_York
BEGIN:DAYLIGHT
TZOFFSETFROM:-0500
TZOFFSETTO:-0400
TZNAME:EDT
DTSTART:20180311T070000
END:DAYLIGHT
BEGIN:STANDARD
TZOFFSETFROM:-0400
TZOFFSETTO:-0500
TZNAME:EST
DTSTART:20181104T060000
END:STANDARD
BEGIN:DAYLIGHT
TZOFFSETFROM:-0500
TZOFFSETTO:-0400
TZNAME:EDT
DTSTART:20190310T070000
END:DAYLIGHT
BEGIN:STANDARD
TZOFFSETFROM:-0400
TZOFFSETTO:-0500
TZNAME:EST
DTSTART:20191103T060000
END:STANDARD
BEGIN:DAYLIGHT
TZOFFSETFROM:-0500
TZOFFSETTO:-0400
TZNAME:EDT
DTSTART:20200308T070000
END:DAYLIGHT
BEGIN:STANDARD
TZOFFSETFROM:-0400
TZOFFSETTO:-0500
TZNAME:EST
DTSTART:20201101T060000
END:STANDARD
END:VTIMEZONE
BEGIN:VEVENT
DTSTART;TZID=America/New_York:20191110T120000
DTEND;TZID=America/New_York:20191110T120000
DTSTAMP:20260424T001047
CREATED:20190724T141236Z
LAST-MODIFIED:20190724T141236Z
UID:436-1573387200-1573387200@emeraldinvitations.com
SUMMARY:Grand Wedding Expo
DESCRIPTION:Congratulations on your engagement! As you start your wedding planning its important to arm yourself with information. You should definitely take your time celebrating your engagement\, but when you’re ready to officially start planning your wedding\, Grand Wedding Expo is a great way for you to get inspired and start learning about all the option available to you\, as you choose the services\, products\, and merchandise you will need to realize THE WEDDING OF YOUR DREAMS!\n\n\n\n\n\nAs you attend our events\, you will indulge all your senses in the great exhibits with all the new trends and classics alike\, from photography to wedding cakes\, bridal and formalwear fashion\, wedding venues\, honeymoons\, flowers\, entertainment\, and so much more! Enjoy a wonderful day with your fiancé(e)\, the wedding party\, family and friends\, enjoy the live music\, the food samples\, learn from the pros\, and get closer to defining the wedding dress of your dreams by browsing the bridal displays showcasing the ultimate in bridal fashion designs. Take advantage of all the great show specials being offered by our wedding vendors\, which will save you thousands. 
URL:https://emeraldinvitations.com/event/grand-wedding-expo/
LOCATION:Ambrosia Weddings & Events\, 2 Washington Street\, Foxborough\, MA\, 02035\, United States
CATEGORIES:ma
END:VEVENT
END:VCALENDAR